<?xml version="1.0" encoding="UTF-8"?>
<Capabilities xmlns="http://www.opengis.net/wmts/1.0"
xmlns:ows="http://www.opengis.net/ows/1.1"
xmlns:xlink="http://www.w3.org/1999/xlink"
xmlns:xsi="http://www.w3.org/2001/XMLSchema-instance"
xmlns:gml="http://www.opengis.net/gml"
xsi:schemaLocation="http://www.opengis.net/wmts/1.0 http://schemas.opengis.net/wmts/1.0/wmtsGetCapabilities_response.xsd"
version="1.0.0">
<!-- Service Identification --> <ows:ServiceIdentification>
<ows:Title>Basemaps_AerialBase_2026_HighScale_CC_KC</ows:Title>
<ows:ServiceType>OGC WMTS</ows:ServiceType>
<ows:ServiceTypeVersion>1.0.0</ows:ServiceTypeVersion>
</ows:ServiceIdentification> <!-- Operations Metadata --> <ows:OperationsMetadata>
<ows:Operation name="GetCapabilities">
<ows:DCP>
<ows:HTTP>
<ows:Get xlink:href="https://maps.linkgis.org/server/rest/services/Basemaps/AerialBase_2026_HighScale_CC_KC/MapServer/WMTS/1.0.0/WMTSCapabilities.xml">
<ows:Constraint name="GetEncoding">
<ows:AllowedValues>
<ows:Value>RESTful</ows:Value>
</ows:AllowedValues>
</ows:Constraint>
</ows:Get>
<!-- add KVP binding in 10.1 -->
<ows:Get xlink:href="https://maps.linkgis.org/server/rest/services/Basemaps/AerialBase_2026_HighScale_CC_KC/MapServer/WMTS?">
<ows:Constraint name="GetEncoding">
<ows:AllowedValues>
<ows:Value>KVP</ows:Value>
</ows:AllowedValues>
</ows:Constraint>
</ows:Get>
</ows:HTTP>
</ows:DCP>
</ows:Operation>
<ows:Operation name="GetTile">
<ows:DCP>
<ows:HTTP>
<ows:Get xlink:href="https://maps.linkgis.org/server/rest/services/Basemaps/AerialBase_2026_HighScale_CC_KC/MapServer/WMTS/tile/1.0.0/">
<ows:Constraint name="GetEncoding">
<ows:AllowedValues>
<ows:Value>RESTful</ows:Value>
</ows:AllowedValues>
</ows:Constraint>
</ows:Get>
<ows:Get xlink:href="https://maps.linkgis.org/server/rest/services/Basemaps/AerialBase_2026_HighScale_CC_KC/MapServer/WMTS?">
<ows:Constraint name="GetEncoding">
<ows:AllowedValues>
<ows:Value>KVP</ows:Value>
</ows:AllowedValues>
</ows:Constraint>
</ows:Get>
</ows:HTTP>
</ows:DCP>
</ows:Operation>
</ows:OperationsMetadata> <Contents>
<!--Layer--> <Layer>
<ows:Title>Basemaps_AerialBase_2026_HighScale_CC_KC</ows:Title> <ows:Identifier>Basemaps_AerialBase_2026_HighScale_CC_KC</ows:Identifier>
<ows:BoundingBox crs="urn:ogc:def:crs:EPSG::2891">
<ows:LowerCorner>1534103.904515013 469656.0210992617</ows:LowerCorner>
<ows:UpperCorner>1647623.8999308841 591096.0160617128</ows:UpperCorner>
</ows:BoundingBox> <ows:WGS84BoundingBox crs="urn:ogc:def:crs:OGC:2:84">
<ows:LowerCorner>-84.62470605673136 38.78907214964295</ows:LowerCorner>
<ows:UpperCorner>-84.22459751085323 39.12308754195896</ows:UpperCorner>
</ows:WGS84BoundingBox>
<Style isDefault="true">
<ows:Title>Default Style</ows:Title>
<ows:Identifier>default</ows:Identifier>
</Style>
<Format>image/jpgpng</Format>
<TileMatrixSetLink>
<TileMatrixSet>default028mm</TileMatrixSet>
</TileMatrixSetLink>
<ResourceURL format="image/jpgpng" resourceType="tile" template="https://maps.linkgis.org/server/rest/services/Basemaps/AerialBase_2026_HighScale_CC_KC/MapServer/WMTS/tile/1.0.0/Basemaps_AerialBase_2026_HighScale_CC_KC/{Style}/{TileMatrixSet}/{TileMatrix}/{TileRow}/{TileCol}" />
</Layer> <!--TileMatrixSet-->
<TileMatrixSet>
<ows:Title>TileMatrix using 0.28mm</ows:Title>
<ows:Abstract>The tile matrix set that has scale values calculated based on the dpi defined by OGC specification (dpi assumes 0.28mm as the physical distance of a pixel).</ows:Abstract> <ows:Identifier>default028mm</ows:Identifier>
<ows:SupportedCRS>urn:ogc:def:crs:EPSG::2891</ows:SupportedCRS>
<TileMatrix>
<ows:Identifier>0</ows:Identifier>
<ScaleDenominator>453572.33571604296</ScaleDenominator>
<TopLeftCorner>-1.204284E8 1.4879219999999997E8</TopLeftCorner> <TileWidth>256</TileWidth> <TileHeight>256</TileHeight>
<MatrixWidth>1145</MatrixWidth> <MatrixHeight>1391</MatrixHeight>
</TileMatrix>
<TileMatrix>
<ows:Identifier>1</ows:Identifier>
<ScaleDenominator>226786.16785802148</ScaleDenominator>
<TopLeftCorner>-1.204284E8 1.4879219999999997E8</TopLeftCorner> <TileWidth>256</TileWidth> <TileHeight>256</TileHeight>
<MatrixWidth>2289</MatrixWidth> <MatrixHeight>2782</MatrixHeight>
</TileMatrix>
<TileMatrix>
<ows:Identifier>2</ows:Identifier>
<ScaleDenominator>113393.08392901074</ScaleDenominator>
<TopLeftCorner>-1.204284E8 1.4879219999999997E8</TopLeftCorner> <TileWidth>256</TileWidth> <TileHeight>256</TileHeight>
<MatrixWidth>4578</MatrixWidth> <MatrixHeight>5563</MatrixHeight>
</TileMatrix>
<TileMatrix>
<ows:Identifier>3</ows:Identifier>
<ScaleDenominator>56696.54196450537</ScaleDenominator>
<TopLeftCorner>-1.204284E8 1.4879219999999997E8</TopLeftCorner> <TileWidth>256</TileWidth> <TileHeight>256</TileHeight>
<MatrixWidth>9156</MatrixWidth> <MatrixHeight>11125</MatrixHeight>
</TileMatrix>
<TileMatrix>
<ows:Identifier>4</ows:Identifier>
<ScaleDenominator>45357.233571604294</ScaleDenominator>
<TopLeftCorner>-1.204284E8 1.4879219999999997E8</TopLeftCorner> <TileWidth>256</TileWidth> <TileHeight>256</TileHeight>
<MatrixWidth>11445</MatrixWidth> <MatrixHeight>13906</MatrixHeight>
</TileMatrix>
<TileMatrix>
<ows:Identifier>5</ows:Identifier>
<ScaleDenominator>22678.616785802147</ScaleDenominator>
<TopLeftCorner>-1.204284E8 1.4879219999999997E8</TopLeftCorner> <TileWidth>256</TileWidth> <TileHeight>256</TileHeight>
<MatrixWidth>22890</MatrixWidth> <MatrixHeight>27811</MatrixHeight>
</TileMatrix>
<TileMatrix>
<ows:Identifier>6</ows:Identifier>
<ScaleDenominator>11339.308392901074</ScaleDenominator>
<TopLeftCorner>-1.204284E8 1.4879219999999997E8</TopLeftCorner> <TileWidth>256</TileWidth> <TileHeight>256</TileHeight>
<MatrixWidth>45779</MatrixWidth> <MatrixHeight>55621</MatrixHeight>
</TileMatrix>
<TileMatrix>
<ows:Identifier>7</ows:Identifier>
<ScaleDenominator>5669.654196450537</ScaleDenominator>
<TopLeftCorner>-1.204284E8 1.4879219999999997E8</TopLeftCorner> <TileWidth>256</TileWidth> <TileHeight>256</TileHeight>
<MatrixWidth>91558</MatrixWidth> <MatrixHeight>111242</MatrixHeight>
</TileMatrix>
<TileMatrix>
<ows:Identifier>8</ows:Identifier>
<ScaleDenominator>2267.8616785802146</ScaleDenominator>
<TopLeftCorner>-1.204284E8 1.4879219999999997E8</TopLeftCorner> <TileWidth>256</TileWidth> <TileHeight>256</TileHeight>
<MatrixWidth>228893</MatrixWidth> <MatrixHeight>278105</MatrixHeight>
</TileMatrix>
<TileMatrix>
<ows:Identifier>9</ows:Identifier>
<ScaleDenominator>1133.9308392901073</ScaleDenominator>
<TopLeftCorner>-1.204284E8 1.4879219999999997E8</TopLeftCorner> <TileWidth>256</TileWidth> <TileHeight>256</TileHeight>
<MatrixWidth>457786</MatrixWidth> <MatrixHeight>556210</MatrixHeight>
</TileMatrix>
<TileMatrix>
<ows:Identifier>10</ows:Identifier>
<ScaleDenominator>566.9654196450537</ScaleDenominator>
<TopLeftCorner>-1.204284E8 1.4879219999999997E8</TopLeftCorner> <TileWidth>256</TileWidth> <TileHeight>256</TileHeight>
<MatrixWidth>915571</MatrixWidth> <MatrixHeight>1112420</MatrixHeight>
</TileMatrix>
<TileMatrix>
<ows:Identifier>11</ows:Identifier>
<ScaleDenominator>340.17925178703223</ScaleDenominator>
<TopLeftCorner>-1.204284E8 1.4879219999999997E8</TopLeftCorner> <TileWidth>256</TileWidth> <TileHeight>256</TileHeight>
<MatrixWidth>1525951</MatrixWidth> <MatrixHeight>1854032</MatrixHeight>
</TileMatrix>
<TileMatrix>
<ows:Identifier>12</ows:Identifier>
<ScaleDenominator>226.78616785802149</ScaleDenominator>
<TopLeftCorner>-1.204284E8 1.4879219999999997E8</TopLeftCorner> <TileWidth>256</TileWidth> <TileHeight>256</TileHeight>
<MatrixWidth>2288926</MatrixWidth> <MatrixHeight>2781048</MatrixHeight>
</TileMatrix>
</TileMatrixSet>
</Contents>
<ServiceMetadataURL xlink:href="https://maps.linkgis.org/server/rest/services/Basemaps/AerialBase_2026_HighScale_CC_KC/MapServer/WMTS/1.0.0/WMTSCapabilities.xml" /> </Capabilities>
